BEGIN:VCALENDAR
VERSION:2.0
PRODID:-//GKV - ECPv6.15.20//NONSGML v1.0//EN
CALSCALE:GREGORIAN
METHOD:PUBLISH
X-ORIGINAL-URL:https://gkv.hr
X-WR-CALDESC:Događaji za GKV
REFRESH-INTERVAL;VALUE=DURATION:PT1H
X-Robots-Tag:noindex
X-PUBLISHED-TTL:PT1H
BEGIN:VTIMEZONE
TZID:Europe/Zagreb
BEGIN:DAYLIGHT
TZOFFSETFROM:+0100
TZOFFSETTO:+0200
TZNAME:CEST
DTSTART:20250330T010000
END:DAYLIGHT
BEGIN:STANDARD
TZOFFSETFROM:+0200
TZOFFSETTO:+0100
TZNAME:CET
DTSTART:20251026T010000
END:STANDARD
BEGIN:DAYLIGHT
TZOFFSETFROM:+0100
TZOFFSETTO:+0200
TZNAME:CEST
DTSTART:20260329T010000
END:DAYLIGHT
BEGIN:STANDARD
TZOFFSETFROM:+0200
TZOFFSETTO:+0100
TZNAME:CET
DTSTART:20261025T010000
END:STANDARD
BEGIN:DAYLIGHT
TZOFFSETFROM:+0100
TZOFFSETTO:+0200
TZNAME:CEST
DTSTART:20270328T010000
END:DAYLIGHT
BEGIN:STANDARD
TZOFFSETFROM:+0200
TZOFFSETTO:+0100
TZNAME:CET
DTSTART:20271031T010000
END:STANDARD
END:VTIMEZONE
BEGIN:VEVENT
DTSTART;TZID=Europe/Zagreb:20260428T100000
DTEND;TZID=Europe/Zagreb:20260428T110000
DTSTAMP:20260423T105210
CREATED:20260420T093131Z
LAST-MODIFIED:20260420T093131Z
UID:7298-1777370400-1777374000@gkv.hr
SUMMARY:Predavanje na temu ''Usamljenost u starijoj životnoj dobi''
DESCRIPTION:Centar za socijalnu inkluziju Šibenik zajedno s Gradskim društvom Crvenog križa Vodice\, partnerom u programu ”Osnaživanje neformalnih njegovatelja i starijih osoba na području Šibensko-kninske i Zadarske županije” poziva zainteresirane na predavanje na temu ”Usamljenost u starijoj životnoj dobi”\, koje će održati Ines Barišić\, socijalna radnica – Obiteljski centar\, područna služba Šibensko-kninska. Po predavanju u raspravi će biti moguće postavljati pitanja predavačici.\nU nastavku predavanja slijedi radionica na istu temu pod vodstvom stručnih radnica Centra za socijalnu inkluziju – socijalne radnice Davorke Grbac-Plavčić i psihologinje Željke Vlaić.\nPredavanje se održava u sklopu programa ”Osnaživanje neformalnih njegovatelja i starijih osoba na području Šibensko-kninske i Zadarske županije”. Program je financiran sredstvima Ministarstva rada\, mirovinskoga sustava\, obitelji i socijalne politike.\nNositelj programa je Centar za socijalnu inkluziju Šibenik\, a partneri na programu su Hrvatski zavod za socijalni rad\, Gradsko društvo Crvenog križa Vodice i Udruga umirovljenika Krešimirova grada Šibenik.\nPlanirani broj sudionika je 25.\nSvi zainteresirani mogu se javiti u inbox Facebook profila Centra za socijalnu inkluziju Šibenik ili na broj telefona 022312171.
URL:https://gkv.hr/event/predavanje-na-temu-usamljenost-u-starijoj-zivotnoj-dobi/
LOCATION:Zgrada knjižnice – 1. kat
CATEGORIES:Predavanja,Program za odrasle
ATTACH;FMTTYPE=image/webp:https://gkv.hr/wp-content/uploads/2026/04/Predavanje-Usamljenost-u-starijoj-zivotnoj-dobi-GKV-scaled.webp
END:VEVENT
END:VCALENDAR