BEGIN:VCALENDAR
VERSION:2.0
PRODID:-//GKV - ECPv6.15.20//NONSGML v1.0//EN
CALSCALE:GREGORIAN
METHOD:PUBLISH
X-ORIGINAL-URL:https://gkv.hr
X-WR-CALDESC:Događaji za GKV
REFRESH-INTERVAL;VALUE=DURATION:PT1H
X-Robots-Tag:noindex
X-PUBLISHED-TTL:PT1H
BEGIN:VTIMEZONE
TZID:Europe/Zagreb
BEGIN:DAYLIGHT
TZOFFSETFROM:+0100
TZOFFSETTO:+0200
TZNAME:CEST
DTSTART:20250330T010000
END:DAYLIGHT
BEGIN:STANDARD
TZOFFSETFROM:+0200
TZOFFSETTO:+0100
TZNAME:CET
DTSTART:20251026T010000
END:STANDARD
BEGIN:DAYLIGHT
TZOFFSETFROM:+0100
TZOFFSETTO:+0200
TZNAME:CEST
DTSTART:20260329T010000
END:DAYLIGHT
BEGIN:STANDARD
TZOFFSETFROM:+0200
TZOFFSETTO:+0100
TZNAME:CET
DTSTART:20261025T010000
END:STANDARD
BEGIN:DAYLIGHT
TZOFFSETFROM:+0100
TZOFFSETTO:+0200
TZNAME:CEST
DTSTART:20270328T010000
END:DAYLIGHT
BEGIN:STANDARD
TZOFFSETFROM:+0200
TZOFFSETTO:+0100
TZNAME:CET
DTSTART:20271031T010000
END:STANDARD
END:VTIMEZONE
BEGIN:VEVENT
DTSTART;TZID=Europe/Zagreb:20260310T180000
DTEND;TZID=Europe/Zagreb:20260310T193000
DTSTAMP:20260420T204555
CREATED:20260225T185122Z
LAST-MODIFIED:20260226T153045Z
UID:4949-1773165600-1773171000@gkv.hr
SUMMARY:Gostovanje Jurice Pavičića
DESCRIPTION:Gradska knjižnica Vodice s velikim zadovoljstvom najavljuje gostovanje jednog od najčitanijih i najnagrađivanijih suvremenih hrvatskih pisaca\, Jurice Pavičića\, koje će se održati u utorak\, 10. ožujka\, u 18 sati. \nPavičić je\, uz književni rad\, i istaknuti novinar\, kolumnist te filmski kritičar\, čiji su tekstovi i analize obilježili hrvatski medijski prostor posljednjih desetljeća. Autor je niza zapaženih romana\, među kojima se ističu Žigice\, Ovce od gipsa\, Crvena voda\, Žena s drugog kata\, a poseban naglasak ove književne večeri bit će na njegovu najnovijem romanu Usta puna mora. \nPrepoznatljiv po snažnim društvenim temama\, napetim kriminalističkim zapletima i dubokoj analizi dalmatinskog društva\, Pavičić u svojim djelima vješto spaja književnost i društvenu zbilju. Njegovi su romani prevedeni na više jezika te su osvojili brojne književne nagrade i priznanja. \nRazgovor s autorom moderirat će Suzana Suman\, a publika će imati priliku čuti više o njegovu književnom radu\, procesu pisanja\, aktualnim projektima te postavljati pitanja. Susret će obuhvatiti teme suvremene hrvatske književnosti\, društvene stvarnosti i medija\, ali i osobna iskustva koja stoje iza njegovih najpoznatijih romana. \nPozivamo sve ljubitelje književnosti da nam se pridruže na ovoj večeri razgovora\, inspiracije i književne razmjene.
URL:https://gkv.hr/event/gostovanje-jurice-pavicica/
LOCATION:Zgrada knjižnice – 1. kat
CATEGORIES:Predstavljanje knjige,Program za odrasle,Susret s autorom
ATTACH;FMTTYPE=image/webp:https://gkv.hr/wp-content/uploads/2026/02/Gostovanje-Jurice-Pavicica-GKV.webp
END:VEVENT
END:VCALENDAR