BEGIN:VCALENDAR
VERSION:2.0
PRODID:-//GKV - ECPv6.15.20//NONSGML v1.0//EN
CALSCALE:GREGORIAN
METHOD:PUBLISH
X-WR-CALNAME:GKV
X-ORIGINAL-URL:https://gkv.hr
X-WR-CALDESC:Događaji za GKV
REFRESH-INTERVAL;VALUE=DURATION:PT1H
X-Robots-Tag:noindex
X-PUBLISHED-TTL:PT1H
BEGIN:VTIMEZONE
TZID:Europe/Zagreb
BEGIN:DAYLIGHT
TZOFFSETFROM:+0100
TZOFFSETTO:+0200
TZNAME:CEST
DTSTART:20240331T010000
END:DAYLIGHT
BEGIN:STANDARD
TZOFFSETFROM:+0200
TZOFFSETTO:+0100
TZNAME:CET
DTSTART:20241027T010000
END:STANDARD
BEGIN:DAYLIGHT
TZOFFSETFROM:+0100
TZOFFSETTO:+0200
TZNAME:CEST
DTSTART:20250330T010000
END:DAYLIGHT
BEGIN:STANDARD
TZOFFSETFROM:+0200
TZOFFSETTO:+0100
TZNAME:CET
DTSTART:20251026T010000
END:STANDARD
BEGIN:DAYLIGHT
TZOFFSETFROM:+0100
TZOFFSETTO:+0200
TZNAME:CEST
DTSTART:20260329T010000
END:DAYLIGHT
BEGIN:STANDARD
TZOFFSETFROM:+0200
TZOFFSETTO:+0100
TZNAME:CET
DTSTART:20261025T010000
END:STANDARD
END:VTIMEZONE
BEGIN:VEVENT
DTSTART;TZID=Europe/Zagreb:20251022T100000
DTEND;TZID=Europe/Zagreb:20251022T110000
DTSTAMP:20260423T055024
CREATED:20251007T211045Z
LAST-MODIFIED:20251007T211059Z
UID:1297-1761127200-1761130800@gkv.hr
SUMMARY:Predstavljanje knjige
DESCRIPTION:Opis događaja
URL:https://gkv.hr/event/predstavljanje-knjige/
LOCATION:Zgrada knjižnice – 1. kat
CATEGORIES:Predstavljanje knjige
ATTACH;FMTTYPE=image/jpeg:https://gkv.hr/wp-content/uploads/2025/07/GKV-1920x1080-cover-all-n.jpg
END:VEVENT
BEGIN:VEVENT
DTSTART;TZID=Europe/Zagreb:20250812T093000
DTEND;TZID=Europe/Zagreb:20250812T103000
DTSTAMP:20260423T055024
CREATED:20250811T135427Z
LAST-MODIFIED:20250811T142313Z
UID:1158-1754991000-1754994600@gkv.hr
SUMMARY:Utorkom u parku - Piknik pričaonica
DESCRIPTION:Vruće je\, a mi imamo tako lijepi park pa smo i ove godine odlučili na 2 mjeseca preseliti pričaonice i igre na travu u parku. Pričaonice su i dalje namijenjene djeci od četiri do sedam godina\, a termin je i dalje utorkom\, ali ujutro u 9 i 30 (taman prije jutarnjeg kupanjca).\nMi vam obećavamo smiješne i zabavne (i uglavnom poučne) priče\, a nakon njih zabavne igre i kreativan rad. Ponesite dekice ili ručnike (ili napuhance) i dobru volju.\nPrisustvo baka\, djedova\, mama ili tata je obavezno\, članstvo djeteta u knjižnici poželjno\, a prijava na info@gkv.hr ili 022/442-095 dobrodošla.\nU slučaju da nas nebo blagoslovi kišom\, Piknik pričaonica se odgađa.
URL:https://gkv.hr/event/piknik-pricaonica/
LOCATION:Park\, Trg kneza Branimira\, Vodice\, 22211\, Croatia (Local Name: Hrvatska)
CATEGORIES:Pričaonice
ATTACH;FMTTYPE=image/jpeg:https://gkv.hr/wp-content/uploads/2025/08/GKV-Piknik-pricaonica-utorkom-u-parku.jpg
END:VEVENT
END:VCALENDAR